BEGIN:VCALENDAR
VERSION:2.0
PRODID:-//The Arc Georgia - ECPv5.1.6//NONSGML v1.0//EN
CALSCALE:GREGORIAN
METHOD:PUBLISH
X-WR-CALNAME:The Arc Georgia
X-ORIGINAL-URL:https://ga.thearc.org
X-WR-CALDESC:Events for The Arc Georgia
BEGIN:VTIMEZONE
TZID:UTC
BEGIN:STANDARD
TZOFFSETFROM:+0000
TZOFFSETTO:+0000
TZNAME:UTC
DTSTART:20200101T000000
END:STANDARD
END:VTIMEZONE
BEGIN:VEVENT
DTSTART;TZID=UTC:20201026T120000
DTEND;TZID=UTC:20201026T130000
DTSTAMP:20210521T134627
CREATED:20201023T144411Z
LAST-MODIFIED:20201028T160830Z
UID:3610-1603713600-1603717200@ga.thearc.org
SUMMARY:Power of the Disability Vote - Town Hall
DESCRIPTION:POWER OF THE DISABILITY VOTE \n \nYou are invited to join us for one or both events. Each will have similar formats\, but with updated information.\nWe will celebrate the power of the disability vote through those who have cast their ballot\, share our voting experiences\, and discuss accessibility issues that must be addressed. \nClick here to REGISTER for the Zoom Meeting\nor type this link into your browser:\nhttp://bit.ly/PowerDisabilityVote \nAppreciation to Georgia Advocacy Office for Auto/Closed Captioning Services. \nKeri Grey \, AAPD/REV UP\, will share a national perspective on whatshe is seeing as successes and areas in need of advocacy\, Vinny Olsziewski\, Past Chair-REV UP Georgia\, will share what he isseeing in the disability vote on a state level by working directly with candidates.\nThere are many VOTE! Grassroots Connectors doing great work in their local communities. They will share strategies they are using to mobilize their entire community to get out and vote! \nVOTER RESOURCE HUB \nThe Arc Georgia is grateful to our voting rightsadvocacy partner\, AAPD!\nweall.vote/aapdrevup
URL:https://ga.thearc.org/event/power-of-the-disability-vote-town-hall/
END:VEVENT
END:VCALENDAR