BEGIN:VCALENDAR
VERSION:2.0
PRODID:-//The Arc Georgia - ECPv5.1.6//NONSGML v1.0//EN
CALSCALE:GREGORIAN
METHOD:PUBLISH
X-WR-CALNAME:The Arc Georgia
X-ORIGINAL-URL:https://ga.thearc.org
X-WR-CALDESC:Events for The Arc Georgia
BEGIN:VTIMEZONE
TZID:UTC
BEGIN:STANDARD
TZOFFSETFROM:+0000
TZOFFSETTO:+0000
TZNAME:UTC
DTSTART:20200101T000000
END:STANDARD
END:VTIMEZONE
BEGIN:VEVENT
DTSTART;TZID=UTC:20201012T110000
DTEND;TZID=UTC:20201012T120000
DTSTAMP:20210607T034629
CREATED:20201012T185032Z
LAST-MODIFIED:20201012T185032Z
UID:3561-1602500400-1602504000@ga.thearc.org
SUMMARY:Financial Planning Webinar Series - Thursday October 29th
DESCRIPTION:  \nThinking about the future can be challenging and emotional. However\, experience shows that people with disabilities make a better transition from the family home when a future plan is in place. A future plan can also provide peace of mind for caregivers of people with intellectual and/or developmental disabilities. \nThe webinar series on financial future planning will allow participants to think about funding strategies with leading experts in financial planning. \nTo register for the Financial Planning Webinar Series\, click here.
URL:https://ga.thearc.org/event/financial-planning-webinar-series-thursday-october-29th/
END:VEVENT
END:VCALENDAR